BEGIN:VCALENDAR
VERSION:2.0
PRODID:-//jEvents 2.0 for Joomla//EN
CALSCALE:GREGORIAN
METHOD:PUBLISH
BEGIN:VEVENT
UID:6gu4pvst6bbk6f3l03oh1ii3l7@google.com
CATEGORIES:Googlekalender
CREATED:20250112T080511
SUMMARY:FF Verein Herrngiersdorf - 5. Sitzung Arbeitskreis Vorstandschaft
LOCATION:Bernhardstraße 35, 84097 Herrngiersdorf, Deutschland
DESCRIPTION;ENCODING=QUOTED-PRINTABLE:Teilnehmer:\nAnton Mayer\nFlorian Meyer\nPeter Fischer\nVerena Obermeier\n\
 nGrund:\n- Mitgliederversammlung Protokoll erstellen\n- T-Shirt Bestellung 
 Gründungsfest\n- Rückmeldung ehemalige Festdamen\n- Festlegung wegen Hemden
  in Kurz Arm\n- Liste erstellen Teilnehmer am Festumzug\n- E- Rechnung ab 2
 025
DTSTAMP:20260420T143029Z
DTSTART:20250210T180000Z
DTEND:20250210T200000Z
SEQUENCE:4
TRANSP:OPAQUE
END:VEVENT
END:VCALENDAR