BEGIN:VCALENDAR
VERSION:2.0
PRODID:-//jEvents 2.0 for Joomla//EN
CALSCALE:GREGORIAN
METHOD:PUBLISH
BEGIN:VEVENT
UID:7sibhbqgk6ba3n1173gchoo663@google.com
CATEGORIES:Googlekalender
CREATED:20211208T110508
SUMMARY:FF Verein Semerskirchen - Arbeitseinsatz für das Grillfest für die Vereinsmitglieder
LOCATION:Tiefenbach 13, 84097, Herrngiersdorf,  Deutschland
DESCRIPTION;ENCODING=QUOTED-PRINTABLE:Semerskirchen. Feuerwehrverein:\nHeute, Freitag, um 18 Uhr, findet ein\nArb
 eitseinsatz für alle Feuerwehrmitglieder\nzur Vorbereitung des Grillfestes\
 nam alten Feuerwehrhaus in Tiefenbach\nstatt.\n\nGrillfest der\nFeuerwehr\n
 Semerskirchen. (hm) Am Samstag,\n24. August, sind alle Vereinsmitglieder\nd
 es Feuerwehrvereins\nSemerskirchen mit Partner zu einem\nGrillfest am alten
  Feuerwehrhaus\nin Tiefenbach willkommen.\nUm die Planung zu erleichtern,\n
 wird um eine Anmeldung der Teilnehmer\nbei Vorstand Thomas Dallmeier,\nTele
 fon 09452-3740165, gebeten.\nAm Freitag, 23. August, um\n18 Uhr, findet ein
  Arbeitseinsatz zur\nVorbereitung des Grillfestes am alten\nFeuerwehrhaus i
 n Tiefenbach\nstatt.
DTSTAMP:20260422T032851Z
DTSTART:20190823T160000Z
DTEND:20190823T180000Z
SEQUENCE:0
TRANSP:OPAQUE
END:VEVENT
END:VCALENDAR