BEGIN:VCALENDAR
VERSION:2.0
PRODID:-//jEvents 2.0 for Joomla//EN
CALSCALE:GREGORIAN
METHOD:PUBLISH
BEGIN:VEVENT
UID:6sn8ojiq9m18e2v2gbgm2qgidc@google.com
CATEGORIES:Googlekalender
CREATED:20211208T110508
SUMMARY:FF Vorstandschafts- und Kommandantensitzung im Gruppenraum vom Feuerwehrhaus
LOCATION:Bernhardstraße 35, 84097 Herrngiersdorf, Deutschland
DESCRIPTION;ENCODING=QUOTED-PRINTABLE:
DTSTAMP:20260421T185913Z
DTSTART:20191105T183000Z
DTEND:20191105T200000Z
SEQUENCE:0
TRANSP:OPAQUE
END:VEVENT
END:VCALENDAR